BEGIN:VCALENDAR
VERSION:2.0
PRODID:-//ExpressionEngine Easy iCalendar plugin//NONSGML v2.0.0//EN
X-WR-TIMEZONE:America/New_York
X-WR-CALNAME:Upcoming Auctions
BEGIN:VEVENT
UID:121936
DTSTAMP:20240611T190000
DTSTART:20240611T190000
DTEND:20240627T190000
SUMMARY:Staunton Downsizing Auction
LOCATION:2613 N Augusta St\, Staunton\, VA 24401\, US
DESCRIPTION:Online only auction for furniture\, collectibles\, sterling si
 lver and other jewelry\, antiques\,Â framed art from local art
 ists\,Â and other household items.Â  All of these items comeÂ
  from a cleanÂ smoke free home.Â This auction closes Thursda
 yÂ June 27Â with pickup on Friday June 28.
URL:https://www.mountainvalleyauctions.com/auctions/detail/bw121
 936
SEQUENCE:1
END:VEVENT
END:VCALENDAR