BEGIN:VCALENDAR
VERSION:2.0
PRODID:-//ExpressionEngine Easy iCalendar plugin//NONSGML v2.0.0//EN
X-WR-TIMEZONE:America/New_York
X-WR-CALNAME:Upcoming Auctions
BEGIN:VEVENT
UID:124749
DTSTAMP:20240824T090000
DTSTART:20240824T090000
DTEND:20240824T100000
SUMMARY:Glenford and Marie Amstutz Estate Auction
LOCATION:10131 Possum Hollow Rd\, Shippensburg \, PA 17257\, US
DESCRIPTION:Live Public Auction To Settle the Estate of Glenford and Mar
 ie Amstutz.  Vehicles\, Trailers\, Household\, Tools\, Lawn and
  Garden\, Firearms and Reloading Supplies\, and More. To be h
 eld August 24\, 2024\, 9:00 A.M. at the Shippensburg Fairgroun
 ds Commercial Exhibits Building 10131 Possum Hollow Rd. Ship
 pensburg\, PA 17257. This is a live in person auction with n
 o online bidding. Lunch will be available for purchase from
  the Rowe-Burns Valley Youth Group.
URL:https://www.mountainvalleyauctions.com/auctions/detail/bw124
 749
SEQUENCE:1
END:VEVENT
END:VCALENDAR