BEGIN:VCALENDAR
VERSION:2.0
PRODID:-//ExpressionEngine Easy iCalendar plugin//NONSGML v2.0.1//EN
X-WR-TIMEZONE:America/New_York
X-WR-CALNAME:Upcoming Auctions
BEGIN:VEVENT
UID:136411
DTSTAMP:20250302T190000
DTSTART:20250302T190000
DTEND:20250401T130000
SUMMARY:Beautiful Custom Home In Sunset Heights - Harrisonburg VA
LOCATION:997 Circle Drive\, Harrisonburg\, VA 22801\, US
DESCRIPTION:We are offering at online auction the real estate and impro
 vements located at 997 Circle Dr\, Harrisonburg VA 22801. Thi
 s spacious custom home sits on a 0.37 +/- acre lot in the S
 unset Heights neighborhood. It offers easy access to the bes
 t parks and recreation available in Harrisonburg\, and featur
 es 3\,187 sq ft of living space plus an unfinished walk out 
 basement. With up to 5 bedrooms\, 3 1/2 baths\, rear deck\, 
 wrap around front porch\, and two car garage this house has 
 lots to offer. The online only auction will close April 1\, 
 2025 @ 1:00 PM.
URL:https://www.mountainvalleyauctions.com/auctions/detail/bw136
 411
SEQUENCE:1
END:VEVENT
END:VCALENDAR