BEGIN:VCALENDAR
VERSION:2.0
PRODID:-//ExpressionEngine Easy iCalendar plugin//NONSGML v2.0.0//EN
X-WR-TIMEZONE:America/New_York
X-WR-CALNAME:Upcoming Auctions
BEGIN:VEVENT
UID:147496
DTSTAMP:20250901T130000
DTSTART:20250901T130000
DTEND:20251001T130000
SUMMARY:50+/- Acres Of Land In Rockingham County VA
LOCATION:TBD Peake Mountain Rd\, Harrisonburg\, VA 22802\, US
DESCRIPTION:We are offering at onlineÂ auction 50.25 +/- acres of land o
 n Peake Mountain Rd in RockinghamÂ County VA. This property 
 is zoned A-2 agricultural and is being offered in twoÂ separ
 ate tracts of 10 acres and 40 acres. ItÂ is wooded with prim
 arily mature hardwoods\, and offers abundant wildlife\, lots o
 f road frontage on Peake Mountain Rd\, recent survey\, and VDO
 T approved entrance locations on both tracts. The 10 acre tr
 act comes with a 5 bedroom perc certification and both haveÂ
  suitable areas for building. This property is 10 miles west
  of Harrisonburg with easy access to Rt 33 and Singers Glen 
 Rd.Â The online only auction will close October 1\, 2025 @ 1 
 PM.
URL:https://www.mountainvalleyauctions.com/auctions/detail/bw147
 496
SEQUENCE:1
END:VEVENT
END:VCALENDAR