BEGIN:VCALENDAR
VERSION:2.0
PRODID:-//ExpressionEngine Easy iCalendar plugin//NONSGML v2.0.0//EN
X-WR-TIMEZONE:America/New_York
X-WR-CALNAME:Upcoming Auctions
BEGIN:VEVENT
UID:148525
DTSTAMP:20250928T190000
DTSTART:20250928T190000
DTEND:20251023T190000
SUMMARY:Bath County Farm Estate Auction
LOCATION:3231 Big Back Creek Rd\, Warm Springs\, VA 24484\, US
DESCRIPTION:Online only auction for tractors\, hay and grain equipment\, t
 ools\, and antiques from a Bath County VA farm. This auctio
 n closes Thursday October 23 beginning at 7 PM with pickup
  on October 24-25. All items are located in western Bath Cou
 nty VA near Mountain Grove.  Exact address will be publis
 hed prior to preview.
URL:https://www.mountainvalleyauctions.com/auctions/detail/bw148
 525
SEQUENCE:1
END:VEVENT
END:VCALENDAR