BEGIN:VCALENDAR
VERSION:2.0
PRODID:-//ExpressionEngine Easy iCalendar plugin//NONSGML v2.0.1//EN
X-WR-TIMEZONE:America/New_York
X-WR-CALNAME:Upcoming Auctions
BEGIN:VEVENT
UID:148857
DTSTAMP:20250919T100000
DTSTART:20250919T100000
DTEND:20250929T190000
SUMMARY:Norfolk & Western Class J No. 611 – Charity Auction
LOCATION:340 Victoria Lane\, Goshen\, VA 24439\, US
DESCRIPTION:Ride in the Cab of Norfolk & Western Class J No. 611 – Cha
 rity Auction All proceeds benefit the Virginia Museum of Tra
 nsportation. The Virginia Museum of Transportation is proud 
 to present rail fans with a once-in-a-lifetime opportunity
 : a ride in the cab of the legendary Norfolk & Western Clas
 s J No. 611. As part of the Shenandoah Valley Limited on th
 e Virginia Scenic Railway\, four unforgettable cab ride exper
 iences will be auctioned: This auction is hosted by our frie
 nds at Rail and Road Auctions and closes on Sept 29\, 2025
URL:https://www.mountainvalleyauctions.com/auctions/detail/bw148
 857
SEQUENCE:1
END:VEVENT
END:VCALENDAR