BEGIN:VCALENDAR
VERSION:2.0
PRODID:-//ExpressionEngine Easy iCalendar plugin//NONSGML v2.0.1//EN
X-WR-TIMEZONE:America/New_York
X-WR-CALNAME:Upcoming Auctions
BEGIN:VEVENT
UID:59214
DTSTAMP:20210117T180000
DTSTART:20210117T180000
DTEND:20210217T130000
SUMMARY:Valuable Commercial Real Estate In Town Of Shenandoah VA
LOCATION:700 10th St\, Shenandoah\, VA 22849\, US
DESCRIPTION:We are offering at online auction the real estate and impro
 vements located at 700 Tenth St\, Shenandoah VA 22849. This p
 roperty is 0.59 +/- acres zoned commercial and improved by 
 a 1324 sq. ft. office building and a 1800 sq. ft. shop/gara
 ge building. It features road frontage on both Maryland Ave
  and Tenth St. This property would make an excellent space f
 or a contractor\, auto detailer\, body shop\, or other retail b
 usiness.
URL:https://www.mountainvalleyauctions.com/auctions/detail/bw592
 14
SEQUENCE:1
END:VEVENT
END:VCALENDAR