BEGIN:VCALENDAR
VERSION:2.0
PRODID:-//ExpressionEngine Easy iCalendar plugin//NONSGML v2.0.0//EN
X-WR-TIMEZONE:America/New_York
X-WR-CALNAME:Upcoming Auctions
BEGIN:VEVENT
UID:75584
DTSTAMP:20220201T080000
DTSTART:20220201T080000
DTEND:20220215T190000
SUMMARY:Harrisonburg Downsizing and Moving Auction
LOCATION:1021 Jefferson St\, Harrisonburg\, VA 22802\, US
DESCRIPTION:Harrisonburg homeowner has moved and we will be selling at o
 nline auction the contents of their home at 1021 Jefferson S
 t. These items include lawn and garden equipment\, toys\, nice
  antiques and furniture\, items of local history and genealog
 y books\, china and glassware\, art\, and much more. This Onlin
 e Only Auction Closes February 15 @ 7:00 PM. Pickup February
  16 9AM-6PM.
URL:https://www.mountainvalleyauctions.com/auctions/detail/bw755
 84
SEQUENCE:1
END:VEVENT
END:VCALENDAR