BEGIN:VCALENDAR
VERSION:2.0
PRODID:-//ExpressionEngine Easy iCalendar plugin//NONSGML v2.0.0//EN
X-WR-TIMEZONE:America/New_York
X-WR-CALNAME:Upcoming Auctions
BEGIN:VEVENT
UID:29978
DTSTAMP:20180921T130004
DTSTART:20180921T130004
DTEND:20180921T140004
SUMMARY:West Virginia Mountain Getaway Real Estate Auction
LOCATION:200 Confederate Rd\, Franklin\, WV 26807\, US
DESCRIPTION:Get away from the hustle and bustle to your own mountain ret
 reat with 5 parcels of secluded mountain land to choose from
  and a year round cabin already built on parcel one. These 5
  parcels total 42.73 acres and all have road access and elec
 tricity nearby. Located in the Buck Ridges Subdivision near 
 Franklin WV\, these lots offer stunning mountain views\, wildl
 ife and hunting\, privacy and security\, as well as many recre
 ational opportunities nearby.
URL:https://www.mountainvalleyauctions.com/auctions/detail/west-
 virginia-mountain-getaway-real-estate-auction-bw29978
SEQUENCE:1
END:VEVENT
END:VCALENDAR